BEGIN:VCALENDAR
VERSION:2.0
PRODID:-//Recchioni - ECPv6.10.1//NONSGML v1.0//EN
CALSCALE:GREGORIAN
METHOD:PUBLISH
X-ORIGINAL-URL:https://www.recchioni.com
X-WR-CALDESC:Eventi per Recchioni
REFRESH-INTERVAL;VALUE=DURATION:PT1H
X-Robots-Tag:noindex
X-PUBLISHED-TTL:PT1H
BEGIN:VTIMEZONE
TZID:Europe/Rome
BEGIN:DAYLIGHT
TZOFFSETFROM:+0100
TZOFFSETTO:+0200
TZNAME:CEST
DTSTART:20190331T010000
END:DAYLIGHT
BEGIN:STANDARD
TZOFFSETFROM:+0200
TZOFFSETTO:+0100
TZNAME:CET
DTSTART:20191027T010000
END:STANDARD
BEGIN:DAYLIGHT
TZOFFSETFROM:+0100
TZOFFSETTO:+0200
TZNAME:CEST
DTSTART:20200329T010000
END:DAYLIGHT
BEGIN:STANDARD
TZOFFSETFROM:+0200
TZOFFSETTO:+0100
TZNAME:CET
DTSTART:20201025T010000
END:STANDARD
END:VTIMEZONE
BEGIN:VEVENT
DTSTART;VALUE=DATE:20200331
DTEND;VALUE=DATE:20200403
DTSTAMP:20260425T041407
CREATED:20200217T141803Z
LAST-MODIFIED:20240909T103050Z
UID:4304-1585612800-1585871999@www.recchioni.com
SUMMARY:CORSO BARMAN MIXOLOGY MARZO-APRILE
DESCRIPTION:CORSO BARMAN MIXOLOGY MARZO-APRILE\n\nLe tecniche di ieri\, le tendenze di oggi\, il successo di domani!\n\n\n\nIl corso dove si studiano la storia della miscelazione e delle migliori materie prime\, apprendendo le tecniche di ieri e scoprendo come fonderle con quelle di oggi per creare un risultato unico e speciale.\nINFO DIDATTICHE:\nDOCENTI: trainer Planet One\nMATERIALI DIDATTICI: Manuale + Ricettario\nSPECIALITY: upgrade con mail training\nTEST GIORNALIERI: tecnico pratico\nESAME FINALE: test tecnico e prova pratica\nFormula full time\, 3 giorni in aula con i seguenti orari:\n– mattino 9:00-13:00\n– pomeriggio 14:00-18:00\n\nPer info\, costi ed iscrizioni:\nmail: civitanovamarche@planetone.it\ntel.: 3497351537\n\n 
URL:https://www.recchioni.com/corso-evento/corso-barman-mixology-marzo-aprile/
LOCATION:Sede\, Via Virgilio Borioni\, 2/4\,\, Civitanova Marche (MC)\, 62012\, Italia
CATEGORIES:Mixology
END:VEVENT
BEGIN:VEVENT
DTSTART;VALUE=DATE:20191022
DTEND;VALUE=DATE:20191025
DTSTAMP:20260425T041407
CREATED:20191016T112005Z
LAST-MODIFIED:20191016T112005Z
UID:4046-1571702400-1571961599@www.recchioni.com
SUMMARY:CORSO BARMAN MIXOLOGY OTTOBRE
DESCRIPTION:CORSO BARMAN MIXOLOGY OTTOBRE \nLe tecniche di ieri\, le tendenze di oggi\, il successo di domani! \nIl corso dove si studiano la storia della miscelazione e delle migliori materie prime\, apprendendo le tecniche di ieri e scoprendo come fonderle con quelle di oggi per creare un risultato unico e speciale.\nINFO DIDATTICHE:\nDOCENTI: trainer Planet One\nMATERIALI DIDATTICI: Manuale + Ricettario\nSPECIALITY: upgrade con mail training\nTEST GIORNALIERI: tecnico pratico\nESAME FINALE: test tecnico e prova pratica\nFormula full time\, 3 giorni in aula con i seguenti orari:\n– mattino 9:00-13:00\n– pomeriggio 14:00-18:00\nPer info\, costi ed iscrizioni:\nmail: civitanovamarche@planetone.it\nmob.: 3497351537 \nCORSO BARMAN MIXOLOGY  \n 
URL:https://www.recchioni.com/corso-evento/corso-barman-mixology-ottobre-2/
LOCATION:Sede\, Via Virgilio Borioni\, 2/4\,\, Civitanova Marche (MC)\, 62012\, Italia
CATEGORIES:Mixology
END:VEVENT
BEGIN:VEVENT
DTSTART;VALUE=DATE:20190514
DTEND;VALUE=DATE:20190517
DTSTAMP:20260425T041407
CREATED:20190410T113952Z
LAST-MODIFIED:20190410T135124Z
UID:3673-1557792000-1558051199@www.recchioni.com
SUMMARY:CORSO BARMAN MIXOLOGY
DESCRIPTION:CORSO BARMAN MIXOLOGY….le tecniche di ieri\, le tendenze di oggi\, il successo di domani!CORSO BARMAN MIXOLOGY!  \nE’ il corso in cui viene studiata la storia della miscelazione e delle migliori materie prime\, apprendendo le tecniche di ieri e scoprendo come fonderle con quelle di oggi per creare un risultato unico e speciale.\nINFO DIDATTICHE:\nDOCENTI: trainer Planet One\nMATERIALI DIDATTICI: Manuale + Ricettario\nSPECIALITY: upgrade con mail training\nTEST GIORNALIERI: tecnico pratico\nESAME FINALE: test tecnico e prova pratica\nFormula full time\, 3 giorni in aula con i seguenti orari:\n– mattino      9:00-13:00\n– pomeriggio  14:00-18:00\nPer info\, costi ed iscrizioni:\nmail: civitanovamarche@planetone.it\nmob.: 3497351537
URL:https://www.recchioni.com/corso-evento/corso-barman-mixology/
LOCATION:Sede\, Via Virgilio Borioni\, 2/4\,\, Civitanova Marche (MC)\, 62012\, Italia
CATEGORIES:Mixology
END:VEVENT
END:VCALENDAR