BEGIN:VCALENDAR
VERSION:2.0
PRODID:-//Recchioni - ECPv6.10.1//NONSGML v1.0//EN
CALSCALE:GREGORIAN
METHOD:PUBLISH
X-WR-CALNAME:Recchioni
X-ORIGINAL-URL:https://www.recchioni.com
X-WR-CALDESC:Eventi per Recchioni
REFRESH-INTERVAL;VALUE=DURATION:PT1H
X-Robots-Tag:noindex
X-PUBLISHED-TTL:PT1H
BEGIN:VTIMEZONE
TZID:Europe/Rome
BEGIN:DAYLIGHT
TZOFFSETFROM:+0100
TZOFFSETTO:+0200
TZNAME:CEST
DTSTART:20180325T010000
END:DAYLIGHT
BEGIN:STANDARD
TZOFFSETFROM:+0200
TZOFFSETTO:+0100
TZNAME:CET
DTSTART:20181028T010000
END:STANDARD
BEGIN:DAYLIGHT
TZOFFSETFROM:+0100
TZOFFSETTO:+0200
TZNAME:CEST
DTSTART:20190331T010000
END:DAYLIGHT
BEGIN:STANDARD
TZOFFSETFROM:+0200
TZOFFSETTO:+0100
TZNAME:CET
DTSTART:20191027T010000
END:STANDARD
END:VTIMEZONE
BEGIN:VEVENT
DTSTART;VALUE=DATE:20190604
DTEND;VALUE=DATE:20190606
DTSTAMP:20260425T042737
CREATED:20190415T105203Z
LAST-MODIFIED:20190415T105203Z
UID:3682-1559606400-1559779199@www.recchioni.com
SUMMARY:CORSO BAR & RESTAURANT MANAGER
DESCRIPTION:Nuova formula del CORSO BAR & RESTAURANT MANAGER\, il corso che fornisce una solida base per costruire la vostra carriera.\nOffre i vari passaggi per gestire al meglio un’attività nel settore Ho.re.ca\, affrontando i vari punti: progetto imprenditoriale\, la vendita\, menu engineering (10 passi per realizzare un menu)\, drink-food cist & profit\, gestione delle risorse umane\, cosa è un team e tanto altro.\nACCESSIBILITA’ E REQUISITI RICHIESTI: pc personale con pacchetto office installato\, abilità utilizzo pacchetto office (Word e Excel)\nIl programma si svolge con la formula full immersion (2 giorni) 16 ore totali con i seguenti orari:\n– mattino     9.00-13.00\n– pomeriggio 14.00-18.00\nRICONOSCIMENTI: attestato\, libretto ateneo\nMATERIALI DIDATTICI: manuale e dispense\nPer info ed iscrizioni:\n– mob.: 3497351537\n– mail: civitanovamarche@planetone.it \nCORSO BAR & RESTAURANT MANAGER
URL:https://www.recchioni.com/corso-evento/corso-bar-restaurant-manager/
LOCATION:Sede\, Via Virgilio Borioni\, 2/4\,\, Civitanova Marche (MC)\, 62012\, Italia
CATEGORIES:Bar manager
END:VEVENT
BEGIN:VEVENT
DTSTART;VALUE=DATE:20190506
DTEND;VALUE=DATE:20190507
DTSTAMP:20260425T042737
CREATED:20190410T101527Z
LAST-MODIFIED:20190410T101817Z
UID:3669-1557100800-1557187199@www.recchioni.com
SUMMARY:EVENTO GRATUITO "BAR & RESTAURANT MANAGER"
DESCRIPTION:“BAR & RESTAURANT MANAGER” EVENTO GRATUITO a numero chiuso\, si terrà il 6 maggio e sarà dedicato a chi ha un cocktail bar\, un bar o un ristorante e deve gestire dei collaboratori!\nUn’occasione unica (solo su invito personale) per parlare di costi\, personale\, gestione del tempo e nuovi metodi per ottenere più clienti\, più fatturato e più tempo libero!!!\nPer info:\n– civitanovamarche@planetone.it\n– 349.7351537\n“BAR & RESTAURANT MANAGER”…EVENTO GRATUITO!!!
URL:https://www.recchioni.com/corso-evento/evento-gratuito-bar-restaurant-manager/
LOCATION:Sede\, Via Virgilio Borioni\, 2/4\,\, Civitanova Marche (MC)\, 62012\, Italia
CATEGORIES:Bar manager
END:VEVENT
BEGIN:VEVENT
DTSTART;VALUE=DATE:20181113
DTEND;VALUE=DATE:20181116
DTSTAMP:20260425T042737
CREATED:20181026T092540Z
LAST-MODIFIED:20190111T101757Z
UID:3360-1542067200-1542326399@www.recchioni.com
SUMMARY:CORSO BAR MANAGER 1° LIVELLO
DESCRIPTION:Head Bartender / Bar Manager\nIl corso si pone l’obiettivo di trasferire\, attraverso esercizi in aula personalizzati e supportati da tutor\, manuali e dispense un metodo di gestione completo e vicino alle singole esigenze. Analisi dell’idea imprenditoriale\, scenari di mercato\, menu\, organizzazione delle aree di lavoro e formazione del team sono solo alcuni degli argomenti che verranno trattati. \n\nSono aperte le iscrizioni\, per qualsiasi informazione potete contattare:\nSamuela tel.349.7351537 o mandare una mail al seguente indirizzo:\ncivitanovamarche@planetone.it \nINFO GENERALI\nDESTINATARI: Gestori attività / Head Bartender / Bar Manager\nCARATTERISTICHE: Teorico – Pratico\nACCESSIBILITA’ E REQUISITI RICHIESTI: Proprio PC e pacchetto Office\nPARTECIPANTI: massimo 12 persone\nDURATA CORSO: 24 ore\, 3 giorni\, full time\nORARI LEZIONI: full time 9\,00 -13\,00 /14\,00-18\,00
URL:https://www.recchioni.com/corso-evento/corso-bar-manager-1-livello/
LOCATION:Sede\, Via Virgilio Borioni\, 2/4\,\, Civitanova Marche (MC)\, 62012\, Italia
CATEGORIES:Bar manager
ATTACH;FMTTYPE=image/jpeg:https://www.recchioni.com/wp-content/uploads/2018/10/BAR-MANAGER.jpg
ORGANIZER;CN="Planet One":MAILTO:civitanovamarche@planetone.it
END:VEVENT
END:VCALENDAR